BEGIN:VCALENDAR
VERSION:2.0
PRODID:-//ufor-rugby - ECPv6.15.15//NONSGML v1.0//EN
CALSCALE:GREGORIAN
METHOD:PUBLISH
X-ORIGINAL-URL:https://ufor-rugby.com
X-WR-CALDESC:Évènements pour ufor-rugby
REFRESH-INTERVAL;VALUE=DURATION:PT1H
X-Robots-Tag:noindex
X-PUBLISHED-TTL:PT1H
BEGIN:VTIMEZONE
TZID:UTC
BEGIN:STANDARD
TZOFFSETFROM:+0000
TZOFFSETTO:+0000
TZNAME:UTC
DTSTART:20240101T000000
END:STANDARD
END:VTIMEZONE
BEGIN:VEVENT
DTSTART;TZID=UTC:20251206T100000
DTEND;TZID=UTC:20251206T120000
DTSTAMP:20260426T020111
CREATED:20250908T153906Z
LAST-MODIFIED:20250908T154536Z
UID:1964-1765015200-1765022400@ufor-rugby.com
SUMMARY:Tournoi Ecole de Rugby à FEURS (U12)
DESCRIPTION:Catégories U12 \nPrésence: RCF\, UFOR-RCRLM\, RCSE
URL:https://ufor-rugby.com/event/tournoi-ecole-de-rugby-a-feurs-u12
LOCATION:Feurs\, Rue De Verdun Stade De L'Hippodrome\, Feurs\, 42110\, France
END:VEVENT
BEGIN:VEVENT
DTSTART;TZID=UTC:20251206T110000
DTEND;TZID=UTC:20251206T130000
DTSTAMP:20260426T020111
CREATED:20250908T153714Z
LAST-MODIFIED:20250908T153714Z
UID:1960-1765018800-1765026000@ufor-rugby.com
SUMMARY:Tournoi Ecole de Rugby à UNIEUX (U8 - U10)
DESCRIPTION:Catégories U8\, U10 \nPrésence: UFOR\, REVE XV\, SMRC\, RPGP
URL:https://ufor-rugby.com/event/tournoi-ecole-de-rugby-a-unieux-u8-u10
LOCATION:Stade Pierre POTY – Unieux\, Rue Victor HUGO\, UNIEUX\, 42240\, France
END:VEVENT
BEGIN:VEVENT
DTSTART;TZID=UTC:20251206T140000
DTEND;TZID=UTC:20251206T160000
DTSTAMP:20260426T020111
CREATED:20250925T083843Z
LAST-MODIFIED:20250925T085428Z
UID:2015-1765029600-1765036800@ufor-rugby.com
SUMMARY:RUGBY ENTENTE LOIRE SUD vs MS XV (Moins de 16 ans)
DESCRIPTION:REGIONALE 1 – LIGUE AURA
URL:https://ufor-rugby.com/event/rugby-entente-loire-sud-vs-ms-xv-moins-de-16-ans
LOCATION:Andrézieux-Bouthéon\, Andrézieux-Bouthéon\, 42160\, France
ATTACH;FMTTYPE=image/png:https://ufor-rugby.com/wp-content/uploads/2025/09/LS-vs-MSXV.png
END:VEVENT
BEGIN:VEVENT
DTSTART;TZID=UTC:20251206T140000
DTEND;TZID=UTC:20251206T160000
DTSTAMP:20260426T020111
CREATED:20250925T110555Z
LAST-MODIFIED:20250925T110555Z
UID:2234-1765029600-1765036800@ufor-rugby.com
SUMMARY:Plateau moins de 14 ans (Entente Roche la Molière - UFOR)
DESCRIPTION:Première phase\nJeu réel
URL:https://ufor-rugby.com/event/plateau-moins-de-14-ans-entente-roche-la-moliere-ufor-3-2-2-2
ATTACH;FMTTYPE=image/png:https://ufor-rugby.com/wp-content/uploads/2025/02/RCRLM-UFOR.png
END:VEVENT
BEGIN:VEVENT
DTSTART;TZID=UTC:20251206T153000
DTEND;TZID=UTC:20251206T170000
DTSTAMP:20260426T020111
CREATED:20250925T093814Z
LAST-MODIFIED:20250925T093814Z
UID:2099-1765035000-1765040400@ufor-rugby.com
SUMMARY:RUGBY ENTENTE LOIRE SUD vs ENTENTE AMPUIS COTES D'AREY RHODANIEN (Moins de 19 ans)
DESCRIPTION:REGIONALE 1 – LIGUE AURA
URL:https://ufor-rugby.com/event/rugby-entente-loire-sud-vs-entente-ampuis-cotes-darey-rhodanien-moins-de-19-ans
LOCATION:Andrézieux-Bouthéon\, Andrézieux-Bouthéon\, 42160\, France
ATTACH;FMTTYPE=image/png:https://ufor-rugby.com/wp-content/uploads/2025/09/LS-vs-AMPUIS.png
END:VEVENT
END:VCALENDAR