BEGIN:VCALENDAR
VERSION:2.0
PRODID:-//ufor-rugby - ECPv6.15.15//NONSGML v1.0//EN
CALSCALE:GREGORIAN
METHOD:PUBLISH
X-WR-CALNAME:ufor-rugby
X-ORIGINAL-URL:https://ufor-rugby.com
X-WR-CALDESC:Évènements pour ufor-rugby
REFRESH-INTERVAL;VALUE=DURATION:PT1H
X-Robots-Tag:noindex
X-PUBLISHED-TTL:PT1H
BEGIN:VTIMEZONE
TZID:UTC
BEGIN:STANDARD
TZOFFSETFROM:+0000
TZOFFSETTO:+0000
TZNAME:UTC
DTSTART:20240101T000000
END:STANDARD
END:VTIMEZONE
BEGIN:VEVENT
DTSTART;TZID=UTC:20251213T140000
DTEND;TZID=UTC:20251213T160000
DTSTAMP:20260426T020034
CREATED:20250925T090137Z
LAST-MODIFIED:20250925T090137Z
UID:2057-1765634400-1765641600@ufor-rugby.com
SUMMARY:CS VIENNE RUGBY vs RUGBY ENTENTE LOIRE SUD  (Moins de 16 ans)
DESCRIPTION:REGIONALE 1 – LIGUE AURA
URL:https://ufor-rugby.com/event/cs-vienne-rugby-vs-rugby-entente-loire-sud-moins-de-16-ans
LOCATION:Vienne
ATTACH;FMTTYPE=image/png:https://ufor-rugby.com/wp-content/uploads/2025/09/CSV-vs-LS.png
END:VEVENT
BEGIN:VEVENT
DTSTART;TZID=UTC:20251213T153000
DTEND;TZID=UTC:20251213T170000
DTSTAMP:20260426T020034
CREATED:20250925T093906Z
LAST-MODIFIED:20250925T093906Z
UID:2102-1765639800-1765645200@ufor-rugby.com
SUMMARY:CS VIENNE RUGBY vs RUGBY ENTENTE LOIRE SUD  (Moins de 19 ans)
DESCRIPTION:REGIONALE 1 – LIGUE AURA
URL:https://ufor-rugby.com/event/cs-vienne-rugby-vs-rugby-entente-loire-sud-moins-de-19-ans
LOCATION:Vienne
ATTACH;FMTTYPE=image/png:https://ufor-rugby.com/wp-content/uploads/2025/09/CSV-vs-LS.png
END:VEVENT
END:VCALENDAR