BEGIN:VCALENDAR
VERSION:2.0
PRODID:-//ufor-rugby - ECPv6.15.15//NONSGML v1.0//EN
CALSCALE:GREGORIAN
METHOD:PUBLISH
X-WR-CALNAME:ufor-rugby
X-ORIGINAL-URL:https://ufor-rugby.com
X-WR-CALDESC:Évènements pour ufor-rugby
REFRESH-INTERVAL;VALUE=DURATION:PT1H
X-Robots-Tag:noindex
X-PUBLISHED-TTL:PT1H
BEGIN:VTIMEZONE
TZID:UTC
BEGIN:STANDARD
TZOFFSETFROM:+0000
TZOFFSETTO:+0000
TZNAME:UTC
DTSTART:20250101T000000
END:STANDARD
END:VTIMEZONE
BEGIN:VEVENT
DTSTART;TZID=UTC:20260404T140000
DTEND;TZID=UTC:20260404T160000
DTSTAMP:20260422T091251
CREATED:20250925T084700Z
LAST-MODIFIED:20250925T084700Z
UID:2033-1775311200-1775318400@ufor-rugby.com
SUMMARY:RUGBY ENTENTE LOIRE SUD vs CS VIENNE RUGBY (Moins de 16 ans)
DESCRIPTION:REGIONALE 1 – LIGUE AURA
URL:https://ufor-rugby.com/event/rugby-entente-loire-sud-vs-cs-vienne-rugby-moins-de-16-ans
LOCATION:Andrézieux-Bouthéon\, Andrézieux-Bouthéon\, 42160\, France
ATTACH;FMTTYPE=image/jpeg:https://ufor-rugby.com/wp-content/uploads/2025/09/LS-vs-CSV.jpg
END:VEVENT
BEGIN:VEVENT
DTSTART;TZID=UTC:20260404T153000
DTEND;TZID=UTC:20260404T170000
DTSTAMP:20260422T091251
CREATED:20250925T094729Z
LAST-MODIFIED:20250925T094729Z
UID:2132-1775316600-1775322000@ufor-rugby.com
SUMMARY:RUGBY ENTENTE LOIRE SUD vs CS VIENNE RUGBY (Moins de 19 ans)
DESCRIPTION:REGIONALE 1 – LIGUE AURA
URL:https://ufor-rugby.com/event/rugby-entente-loire-sud-vs-cs-vienne-rugby-moins-de-19-ans
LOCATION:Andrézieux-Bouthéon\, Andrézieux-Bouthéon\, 42160\, France
ATTACH;FMTTYPE=image/jpeg:https://ufor-rugby.com/wp-content/uploads/2025/09/LS-vs-CSV.jpg
END:VEVENT
END:VCALENDAR