BEGIN:VCALENDAR
VERSION:2.0
PRODID:-//ufor-rugby - ECPv6.15.15//NONSGML v1.0//EN
CALSCALE:GREGORIAN
METHOD:PUBLISH
X-ORIGINAL-URL:https://ufor-rugby.com
X-WR-CALDESC:Évènements pour ufor-rugby
REFRESH-INTERVAL;VALUE=DURATION:PT1H
X-Robots-Tag:noindex
X-PUBLISHED-TTL:PT1H
BEGIN:VTIMEZONE
TZID:UTC
BEGIN:STANDARD
TZOFFSETFROM:+0000
TZOFFSETTO:+0000
TZNAME:UTC
DTSTART:20240101T000000
END:STANDARD
END:VTIMEZONE
BEGIN:VEVENT
DTSTART;TZID=UTC:20251207T150000
DTEND;TZID=UTC:20251207T170000
DTSTAMP:20260422T151330
CREATED:20250926T084555Z
LAST-MODIFIED:20250926T084555Z
UID:2287-1765119600-1765126800@ufor-rugby.com
SUMMARY:FEES'LINES (BRIOUDE) vs UFOR  (FEMININES)
DESCRIPTION:Fédérale 2 Féminine – LIGUES AURA/BFC/GE
URL:https://ufor-rugby.com/event/feeslines-brioude-vs-ufor-feminines
LOCATION:Brioude
ATTACH;FMTTYPE=image/png:https://ufor-rugby.com/wp-content/uploads/2025/09/Brioude-vs-UFOR.png
END:VEVENT
END:VCALENDAR