BEGIN:VCALENDAR
VERSION:2.0
PRODID:-//ufor-rugby - ECPv6.15.15//NONSGML v1.0//EN
CALSCALE:GREGORIAN
METHOD:PUBLISH
X-WR-CALNAME:ufor-rugby
X-ORIGINAL-URL:https://ufor-rugby.com
X-WR-CALDESC:Évènements pour ufor-rugby
REFRESH-INTERVAL;VALUE=DURATION:PT1H
X-Robots-Tag:noindex
X-PUBLISHED-TTL:PT1H
BEGIN:VTIMEZONE
TZID:UTC
BEGIN:STANDARD
TZOFFSETFROM:+0000
TZOFFSETTO:+0000
TZNAME:UTC
DTSTART:20240101T000000
END:STANDARD
END:VTIMEZONE
BEGIN:VEVENT
DTSTART;TZID=UTC:20251116T150000
DTEND;TZID=UTC:20251116T170000
DTSTAMP:20260422T175603
CREATED:20250926T084240Z
LAST-MODIFIED:20250926T084240Z
UID:2280-1763305200-1763312400@ufor-rugby.com
SUMMARY:CLERMONT LA PLAINE vs UFOR  (FEMININES)
DESCRIPTION:Fédérale 2 Féminine – LIGUES AURA/BFC/GE
URL:https://ufor-rugby.com/event/clermont-la-plaine-vs-ufor-feminines
LOCATION:Clermont la Plaine
ATTACH;FMTTYPE=image/png:https://ufor-rugby.com/wp-content/uploads/2025/09/LaPlaine-vs-UFOR.png
END:VEVENT
END:VCALENDAR