BEGIN:VCALENDAR
VERSION:2.0
PRODID:-//ufor-rugby - ECPv6.15.15//NONSGML v1.0//EN
CALSCALE:GREGORIAN
METHOD:PUBLISH
X-ORIGINAL-URL:https://ufor-rugby.com
X-WR-CALDESC:Évènements pour ufor-rugby
REFRESH-INTERVAL;VALUE=DURATION:PT1H
X-Robots-Tag:noindex
X-PUBLISHED-TTL:PT1H
BEGIN:VTIMEZONE
TZID:UTC
BEGIN:STANDARD
TZOFFSETFROM:+0000
TZOFFSETTO:+0000
TZNAME:UTC
DTSTART:20240101T000000
END:STANDARD
END:VTIMEZONE
BEGIN:VEVENT
DTSTART;TZID=UTC:20251115T153000
DTEND;TZID=UTC:20251115T170000
DTSTAMP:20260422T112224
CREATED:20250925T093518Z
LAST-MODIFIED:20250925T093518Z
UID:2092-1763220600-1763226000@ufor-rugby.com
SUMMARY:RUGBY ENTENTE LOIRE SUD vs BROZERS (Moins de 19 ans)
DESCRIPTION:REGIONALE 1 – LIGUE AURA
URL:https://ufor-rugby.com/event/rugby-entente-loire-sud-vs-brozers-moins-de-19-ans
LOCATION:Andrézieux-Bouthéon\, Andrézieux-Bouthéon\, 42160\, France
ATTACH;FMTTYPE=image/png:https://ufor-rugby.com/wp-content/uploads/2025/09/LS-vs-BROZERS.png
END:VEVENT
BEGIN:VEVENT
DTSTART;TZID=UTC:20251115T140000
DTEND;TZID=UTC:20251115T160000
DTSTAMP:20260422T112224
CREATED:20250925T083713Z
LAST-MODIFIED:20250925T083713Z
UID:2012-1763215200-1763222400@ufor-rugby.com
SUMMARY:RUGBY ENTENTE LOIRE SUD vs BROZERS (Moins de 16 ans)
DESCRIPTION:REGIONALE 1 – LIGUE AURA
URL:https://ufor-rugby.com/event/rugby-entente-loire-sud-vs-brozers-moins-de-16-ans
LOCATION:Andrézieux-Bouthéon\, Andrézieux-Bouthéon\, 42160\, France
ATTACH;FMTTYPE=image/png:https://ufor-rugby.com/wp-content/uploads/2025/09/LS-vs-BROZERS.png
END:VEVENT
BEGIN:VEVENT
DTSTART;TZID=UTC:20251108T153000
DTEND;TZID=UTC:20251108T170000
DTSTAMP:20260422T112224
CREATED:20250925T093433Z
LAST-MODIFIED:20250925T093433Z
UID:2089-1762615800-1762621200@ufor-rugby.com
SUMMARY:CR XV vs RUGBY ENTENTE LOIRE SUD  (Moins de 19 ans)
DESCRIPTION:REGIONALE 1 – LIGUE AURA
URL:https://ufor-rugby.com/event/cr-xv-vs-rugby-entente-loire-sud-moins-de-19-ans
LOCATION:Pusignan
ATTACH;FMTTYPE=image/png:https://ufor-rugby.com/wp-content/uploads/2025/09/CRXV-vs-LS.png
END:VEVENT
BEGIN:VEVENT
DTSTART;TZID=UTC:20251108T140000
DTEND;TZID=UTC:20251108T160000
DTSTAMP:20260422T112224
CREATED:20250925T085816Z
LAST-MODIFIED:20250925T085816Z
UID:2050-1762610400-1762617600@ufor-rugby.com
SUMMARY:CR XV vs RUGBY ENTENTE LOIRE SUD  (Moins de 16 ans)
DESCRIPTION:REGIONALE 1 – LIGUE AURA
URL:https://ufor-rugby.com/event/cr-xv-vs-rugby-entente-loire-sud-moins-de-16-ans
LOCATION:Pusignan
ATTACH;FMTTYPE=image/png:https://ufor-rugby.com/wp-content/uploads/2025/09/CRXV-vs-LS.png
END:VEVENT
BEGIN:VEVENT
DTSTART;TZID=UTC:20251018T153000
DTEND;TZID=UTC:20251018T170000
DTSTAMP:20260422T112224
CREATED:20250925T093347Z
LAST-MODIFIED:20250925T093347Z
UID:2086-1760801400-1760806800@ufor-rugby.com
SUMMARY:RUGBY ENTENTE LOIRE SUD vs XV de La DOMBES (Moins de 19 ans)
DESCRIPTION:REGIONALE 1 – LIGUE AURA
URL:https://ufor-rugby.com/event/rugby-entente-loire-sud-vs-xv-de-la-dombes-moins-de-19-ans
LOCATION:Andrézieux-Bouthéon\, Andrézieux-Bouthéon\, 42160\, France
ATTACH;FMTTYPE=image/png:https://ufor-rugby.com/wp-content/uploads/2025/09/LS-vs-DOMBES.png
END:VEVENT
BEGIN:VEVENT
DTSTART;TZID=UTC:20251018T140000
DTEND;TZID=UTC:20251018T160000
DTSTAMP:20260422T112224
CREATED:20250925T083232Z
LAST-MODIFIED:20250925T083353Z
UID:1981-1760796000-1760803200@ufor-rugby.com
SUMMARY:RUGBY ENTENTE LOIRE SUD vs XV de La DOMBES (Moins de 16 ans)
DESCRIPTION:REGIONALE 1 – LIGUE AURA
URL:https://ufor-rugby.com/event/rugby-entente-loire-sud-vs-xv-de-la-dombes-moins-de-16-ans
LOCATION:Andrézieux-Bouthéon\, Andrézieux-Bouthéon\, 42160\, France
ATTACH;FMTTYPE=image/png:https://ufor-rugby.com/wp-content/uploads/2025/09/LS-vs-DOMBES.png
END:VEVENT
BEGIN:VEVENT
DTSTART;TZID=UTC:20251011T153000
DTEND;TZID=UTC:20251011T170000
DTSTAMP:20260422T112224
CREATED:20250925T093301Z
LAST-MODIFIED:20250925T093301Z
UID:2083-1760196600-1760202000@ufor-rugby.com
SUMMARY:RC3D vs RUGBY ENTENTE LOIRE SUD  (Moins de 19 ans)
DESCRIPTION:REGIONALE 1 – LIGUE AURA
URL:https://ufor-rugby.com/event/rc3d-vs-rugby-entente-loire-sud-moins-de-19-ans
LOCATION:Roanne
ATTACH;FMTTYPE=image/png:https://ufor-rugby.com/wp-content/uploads/2025/09/RC3D-vs-LS.png
END:VEVENT
BEGIN:VEVENT
DTSTART;TZID=UTC:20251011T140000
DTEND;TZID=UTC:20251011T160000
DTSTAMP:20260422T112224
CREATED:20250925T085602Z
LAST-MODIFIED:20250925T085602Z
UID:2046-1760191200-1760198400@ufor-rugby.com
SUMMARY:BELR vs RUGBY ENTENTE LOIRE SUD  (Moins de 16 ans)
DESCRIPTION:REGIONALE 1 – LIGUE AURA
URL:https://ufor-rugby.com/event/belr-vs-rugby-entente-loire-sud-moins-de-16-ans
LOCATION:Saint Priest
ATTACH;FMTTYPE=image/png:https://ufor-rugby.com/wp-content/uploads/2025/09/BELR-vs-LS.png
END:VEVENT
BEGIN:VEVENT
DTSTART;TZID=UTC:20251004T153000
DTEND;TZID=UTC:20251004T170000
DTSTAMP:20260422T112224
CREATED:20250925T093127Z
LAST-MODIFIED:20250925T093127Z
UID:2079-1759591800-1759597200@ufor-rugby.com
SUMMARY:RCVM vs RUGBY ENTENTE LOIRE SUD  (Moins de 19 ans)
DESCRIPTION:REGIONALE 1 – LIGUE AURA
URL:https://ufor-rugby.com/event/rcvm-vs-rugby-entente-loire-sud-moins-de-19-ans
LOCATION:Montrevel en Bresse
ATTACH;FMTTYPE=image/png:https://ufor-rugby.com/wp-content/uploads/2025/09/RCVM-vs-LS.png
END:VEVENT
BEGIN:VEVENT
DTSTART;TZID=UTC:20251004T140000
DTEND;TZID=UTC:20251004T160000
DTSTAMP:20260422T112224
CREATED:20250925T085031Z
LAST-MODIFIED:20250925T085031Z
UID:2036-1759586400-1759593600@ufor-rugby.com
SUMMARY:RCVM vs RUGBY ENTENTE LOIRE SUD  (Moins de 16 ans)
DESCRIPTION:REGIONALE 1 – LIGUE AURA
URL:https://ufor-rugby.com/event/rcvm-vs-rugby-entente-loire-sud-moins-de-16-ans
LOCATION:Montrevel en Bresse
ATTACH;FMTTYPE=image/png:https://ufor-rugby.com/wp-content/uploads/2025/09/RCVM-vs-LS.png
END:VEVENT
END:VCALENDAR