BEGIN:VCALENDAR
VERSION:2.0
PRODID:-//ufor-rugby - ECPv6.15.15//NONSGML v1.0//EN
CALSCALE:GREGORIAN
METHOD:PUBLISH
X-ORIGINAL-URL:https://ufor-rugby.com
X-WR-CALDESC:Évènements pour ufor-rugby
REFRESH-INTERVAL;VALUE=DURATION:PT1H
X-Robots-Tag:noindex
X-PUBLISHED-TTL:PT1H
BEGIN:VTIMEZONE
TZID:UTC
BEGIN:STANDARD
TZOFFSETFROM:+0000
TZOFFSETTO:+0000
TZNAME:UTC
DTSTART:20240101T000000
END:STANDARD
END:VTIMEZONE
BEGIN:VEVENT
DTSTART;TZID=UTC:20251108T140000
DTEND;TZID=UTC:20251108T160000
DTSTAMP:20260426T020209
CREATED:20250925T085816Z
LAST-MODIFIED:20250925T085816Z
UID:2050-1762610400-1762617600@ufor-rugby.com
SUMMARY:CR XV vs RUGBY ENTENTE LOIRE SUD  (Moins de 16 ans)
DESCRIPTION:REGIONALE 1 – LIGUE AURA
URL:https://ufor-rugby.com/event/cr-xv-vs-rugby-entente-loire-sud-moins-de-16-ans
LOCATION:Pusignan
ATTACH;FMTTYPE=image/png:https://ufor-rugby.com/wp-content/uploads/2025/09/CRXV-vs-LS.png
END:VEVENT
BEGIN:VEVENT
DTSTART;TZID=UTC:20251108T140000
DTEND;TZID=UTC:20251108T160000
DTSTAMP:20260426T020209
CREATED:20250925T110433Z
LAST-MODIFIED:20250925T110433Z
UID:2226-1762610400-1762617600@ufor-rugby.com
SUMMARY:Plateau moins de 14 ans (Entente Roche la Molière - UFOR)
DESCRIPTION:Première phase\nJeu réel
URL:https://ufor-rugby.com/event/plateau-moins-de-14-ans-entente-roche-la-moliere-ufor-3-2
ATTACH;FMTTYPE=image/png:https://ufor-rugby.com/wp-content/uploads/2025/02/RCRLM-UFOR.png
END:VEVENT
BEGIN:VEVENT
DTSTART;TZID=UTC:20251108T153000
DTEND;TZID=UTC:20251108T170000
DTSTAMP:20260426T020209
CREATED:20250925T093433Z
LAST-MODIFIED:20250925T093433Z
UID:2089-1762615800-1762621200@ufor-rugby.com
SUMMARY:CR XV vs RUGBY ENTENTE LOIRE SUD  (Moins de 19 ans)
DESCRIPTION:REGIONALE 1 – LIGUE AURA
URL:https://ufor-rugby.com/event/cr-xv-vs-rugby-entente-loire-sud-moins-de-19-ans
LOCATION:Pusignan
ATTACH;FMTTYPE=image/png:https://ufor-rugby.com/wp-content/uploads/2025/09/CRXV-vs-LS.png
END:VEVENT
BEGIN:VEVENT
DTSTART;TZID=UTC:20251109T150000
DTEND;TZID=UTC:20251109T170000
DTSTAMP:20260426T020209
CREATED:20250925T103232Z
LAST-MODIFIED:20250925T103232Z
UID:2168-1762700400-1762707600@ufor-rugby.com
SUMMARY:UFOR vs RC VEYLE SAONE (SENIORS)
DESCRIPTION:REGIONALE 2 – LIGUE AURA – Poule 5
URL:https://ufor-rugby.com/event/ufor-vs-rc-veyle-saone-seniors
LOCATION:Stade Pierre POTY – Unieux\, Rue Victor HUGO\, UNIEUX\, 42240\, France
ATTACH;FMTTYPE=image/jpeg:https://ufor-rugby.com/wp-content/uploads/2025/08/UFOR-vs-RCVS.jpg
END:VEVENT
BEGIN:VEVENT
DTSTART;TZID=UTC:20251109T150000
DTEND;TZID=UTC:20251109T170000
DTSTAMP:20260426T020209
CREATED:20250926T084121Z
LAST-MODIFIED:20250926T084121Z
UID:2277-1762700400-1762707600@ufor-rugby.com
SUMMARY:UFOR vs PONT DU CHATEAU (FEMININES)
DESCRIPTION:Fédérale 2 Féminine – LIGUES AURA/BFC/GE
URL:https://ufor-rugby.com/event/ufor-vs-pont-du-chateau-feminines
LOCATION:Stade Pierre POTY – Unieux\, Rue Victor HUGO\, UNIEUX\, 42240\, France
ATTACH;FMTTYPE=image/png:https://ufor-rugby.com/wp-content/uploads/2025/09/UFOR-vs-PontDuChateau.png
END:VEVENT
BEGIN:VEVENT
DTSTART;TZID=UTC:20251115T110000
DTEND;TZID=UTC:20251115T130000
DTSTAMP:20260426T020209
CREATED:20250908T153529Z
LAST-MODIFIED:20250908T153529Z
UID:1957-1763204400-1763211600@ufor-rugby.com
SUMMARY:Tournoi Ecole de Rugby à ROCHE LA MOLIERE
DESCRIPTION:Catégories U8\, U10\, U12 \nPrésence: RCRLM\, UFOR\, RCAB
URL:https://ufor-rugby.com/event/tournoi-ecole-de-rugby-a-roche-la-moliere-2-2
LOCATION:Roche la Molière
END:VEVENT
BEGIN:VEVENT
DTSTART;TZID=UTC:20251115T140000
DTEND;TZID=UTC:20251115T160000
DTSTAMP:20260426T020209
CREATED:20250925T083713Z
LAST-MODIFIED:20250925T083713Z
UID:2012-1763215200-1763222400@ufor-rugby.com
SUMMARY:RUGBY ENTENTE LOIRE SUD vs BROZERS (Moins de 16 ans)
DESCRIPTION:REGIONALE 1 – LIGUE AURA
URL:https://ufor-rugby.com/event/rugby-entente-loire-sud-vs-brozers-moins-de-16-ans
LOCATION:Andrézieux-Bouthéon\, Andrézieux-Bouthéon\, 42160\, France
ATTACH;FMTTYPE=image/png:https://ufor-rugby.com/wp-content/uploads/2025/09/LS-vs-BROZERS.png
END:VEVENT
BEGIN:VEVENT
DTSTART;TZID=UTC:20251115T153000
DTEND;TZID=UTC:20251115T170000
DTSTAMP:20260426T020209
CREATED:20250925T093518Z
LAST-MODIFIED:20250925T093518Z
UID:2092-1763220600-1763226000@ufor-rugby.com
SUMMARY:RUGBY ENTENTE LOIRE SUD vs BROZERS (Moins de 19 ans)
DESCRIPTION:REGIONALE 1 – LIGUE AURA
URL:https://ufor-rugby.com/event/rugby-entente-loire-sud-vs-brozers-moins-de-19-ans
LOCATION:Andrézieux-Bouthéon\, Andrézieux-Bouthéon\, 42160\, France
ATTACH;FMTTYPE=image/png:https://ufor-rugby.com/wp-content/uploads/2025/09/LS-vs-BROZERS.png
END:VEVENT
BEGIN:VEVENT
DTSTART;TZID=UTC:20251116T150000
DTEND;TZID=UTC:20251116T170000
DTSTAMP:20260426T020209
CREATED:20250925T103426Z
LAST-MODIFIED:20250925T103656Z
UID:2171-1763305200-1763312400@ufor-rugby.com
SUMMARY:SO PONT DE CHERUY vs UFOR  (SENIORS)
DESCRIPTION:REGIONALE 2 – LIGUE AURA – Poule 5
URL:https://ufor-rugby.com/event/so-pont-de-cheruy-vs-ufor-seniors
LOCATION:Pont de Cheruy
ATTACH;FMTTYPE=image/jpeg:https://ufor-rugby.com/wp-content/uploads/2025/08/SOPCCT-vs-UFOR.jpg
END:VEVENT
BEGIN:VEVENT
DTSTART;TZID=UTC:20251116T150000
DTEND;TZID=UTC:20251116T170000
DTSTAMP:20260426T020209
CREATED:20250926T084240Z
LAST-MODIFIED:20250926T084240Z
UID:2280-1763305200-1763312400@ufor-rugby.com
SUMMARY:CLERMONT LA PLAINE vs UFOR  (FEMININES)
DESCRIPTION:Fédérale 2 Féminine – LIGUES AURA/BFC/GE
URL:https://ufor-rugby.com/event/clermont-la-plaine-vs-ufor-feminines
LOCATION:Clermont la Plaine
ATTACH;FMTTYPE=image/png:https://ufor-rugby.com/wp-content/uploads/2025/09/LaPlaine-vs-UFOR.png
END:VEVENT
BEGIN:VEVENT
DTSTART;TZID=UTC:20251122T140000
DTEND;TZID=UTC:20251122T160000
DTSTAMP:20260426T020209
CREATED:20250925T085942Z
LAST-MODIFIED:20250925T085942Z
UID:2054-1763820000-1763827200@ufor-rugby.com
SUMMARY:ARCOL vs RUGBY ENTENTE LOIRE SUD  (Moins de 16 ans)
DESCRIPTION:REGIONALE 1 – LIGUE AURA
URL:https://ufor-rugby.com/event/arcol-vs-rugby-entente-loire-sud-moins-de-16-ans
LOCATION:Ecully
ATTACH;FMTTYPE=image/png:https://ufor-rugby.com/wp-content/uploads/2025/09/ARCOL-vs-LS.png
END:VEVENT
BEGIN:VEVENT
DTSTART;TZID=UTC:20251122T140000
DTEND;TZID=UTC:20251122T160000
DTSTAMP:20260426T020209
CREATED:20250925T110524Z
LAST-MODIFIED:20250925T110524Z
UID:2231-1763820000-1763827200@ufor-rugby.com
SUMMARY:Plateau moins de 14 ans (Entente Roche la Molière - UFOR)
DESCRIPTION:Première phase\nJeu réel
URL:https://ufor-rugby.com/event/plateau-moins-de-14-ans-entente-roche-la-moliere-ufor-3-2-2
ATTACH;FMTTYPE=image/png:https://ufor-rugby.com/wp-content/uploads/2025/02/RCRLM-UFOR.png
END:VEVENT
BEGIN:VEVENT
DTSTART;TZID=UTC:20251122T153000
DTEND;TZID=UTC:20251122T170000
DTSTAMP:20260426T020209
CREATED:20250925T093618Z
LAST-MODIFIED:20250925T093618Z
UID:2096-1763825400-1763830800@ufor-rugby.com
SUMMARY:ARCOL vs RUGBY ENTENTE LOIRE SUD  (Moins de 19 ans)
DESCRIPTION:REGIONALE 1 – LIGUE AURA
URL:https://ufor-rugby.com/event/arcol-vs-rugby-entente-loire-sud-moins-de-19-ans
LOCATION:Ecully
ATTACH;FMTTYPE=image/png:https://ufor-rugby.com/wp-content/uploads/2025/09/ARCOL-vs-LS.png
END:VEVENT
BEGIN:VEVENT
DTSTART;TZID=UTC:20251123T150000
DTEND;TZID=UTC:20251123T170000
DTSTAMP:20260426T020209
CREATED:20250926T084410Z
LAST-MODIFIED:20250926T084410Z
UID:2284-1763910000-1763917200@ufor-rugby.com
SUMMARY:UFOR vs LE CREUSOT (FEMININES)
DESCRIPTION:Fédérale 2 Féminine – LIGUES AURA/BFC/GE
URL:https://ufor-rugby.com/event/ufor-vs-le-creusot-feminines
LOCATION:Stade Pierre POTY – Unieux\, Rue Victor HUGO\, UNIEUX\, 42240\, France
ATTACH;FMTTYPE=image/png:https://ufor-rugby.com/wp-content/uploads/2025/09/UFOR-vs-Creusot.png
END:VEVENT
BEGIN:VEVENT
DTSTART;TZID=UTC:20251130T150000
DTEND;TZID=UTC:20251130T170000
DTSTAMP:20260426T020209
CREATED:20250925T103614Z
LAST-MODIFIED:20250925T103614Z
UID:2177-1764514800-1764522000@ufor-rugby.com
SUMMARY:UFOR vs ARCOL (SENIORS)
DESCRIPTION:REGIONALE 2 – LIGUE AURA – Poule 5
URL:https://ufor-rugby.com/event/ufor-vs-arcol-seniors
LOCATION:Stade Pierre POTY – Unieux\, Rue Victor HUGO\, UNIEUX\, 42240\, France
ATTACH;FMTTYPE=image/jpeg:https://ufor-rugby.com/wp-content/uploads/2025/08/UFOR-vs-ARCOL.jpg
END:VEVENT
END:VCALENDAR